BEGIN:VCALENDAR
VERSION:2.0
PRODID:-//SCV Chinese Dance - ECPv6.15.20//NONSGML v1.0//EN
CALSCALE:GREGORIAN
METHOD:PUBLISH
X-WR-CALNAME:SCV Chinese Dance
X-ORIGINAL-URL:https://scvchinesedance.com
X-WR-CALDESC:Events for SCV Chinese Dance
REFRESH-INTERVAL;VALUE=DURATION:PT1H
X-Robots-Tag:noindex
X-PUBLISHED-TTL:PT1H
BEGIN:VTIMEZONE
TZID:America/Los_Angeles
BEGIN:DAYLIGHT
TZOFFSETFROM:-0800
TZOFFSETTO:-0700
TZNAME:PDT
DTSTART:20230312T100000
END:DAYLIGHT
BEGIN:STANDARD
TZOFFSETFROM:-0700
TZOFFSETTO:-0800
TZNAME:PST
DTSTART:20231105T090000
END:STANDARD
BEGIN:DAYLIGHT
TZOFFSETFROM:-0800
TZOFFSETTO:-0700
TZNAME:PDT
DTSTART:20240310T100000
END:DAYLIGHT
BEGIN:STANDARD
TZOFFSETFROM:-0700
TZOFFSETTO:-0800
TZNAME:PST
DTSTART:20241103T090000
END:STANDARD
BEGIN:DAYLIGHT
TZOFFSETFROM:-0800
TZOFFSETTO:-0700
TZNAME:PDT
DTSTART:20250309T100000
END:DAYLIGHT
BEGIN:STANDARD
TZOFFSETFROM:-0700
TZOFFSETTO:-0800
TZNAME:PST
DTSTART:20251102T090000
END:STANDARD
BEGIN:DAYLIGHT
TZOFFSETFROM:-0800
TZOFFSETTO:-0700
TZNAME:PDT
DTSTART:20260308T100000
END:DAYLIGHT
BEGIN:STANDARD
TZOFFSETFROM:-0700
TZOFFSETTO:-0800
TZNAME:PST
DTSTART:20261101T090000
END:STANDARD
END:VTIMEZONE
BEGIN:VTIMEZONE
TZID:UTC
BEGIN:STANDARD
TZOFFSETFROM:+0000
TZOFFSETTO:+0000
TZNAME:UTC
DTSTART:20230101T000000
END:STANDARD
END:VTIMEZONE
BEGIN:VTIMEZONE
TZID:America/Denver
BEGIN:DAYLIGHT
TZOFFSETFROM:-0700
TZOFFSETTO:-0600
TZNAME:MDT
DTSTART:20230312T090000
END:DAYLIGHT
BEGIN:STANDARD
TZOFFSETFROM:-0600
TZOFFSETTO:-0700
TZNAME:MST
DTSTART:20231105T080000
END:STANDARD
BEGIN:DAYLIGHT
TZOFFSETFROM:-0700
TZOFFSETTO:-0600
TZNAME:MDT
DTSTART:20240310T090000
END:DAYLIGHT
BEGIN:STANDARD
TZOFFSETFROM:-0600
TZOFFSETTO:-0700
TZNAME:MST
DTSTART:20241103T080000
END:STANDARD
BEGIN:DAYLIGHT
TZOFFSETFROM:-0700
TZOFFSETTO:-0600
TZNAME:MDT
DTSTART:20250309T090000
END:DAYLIGHT
BEGIN:STANDARD
TZOFFSETFROM:-0600
TZOFFSETTO:-0700
TZNAME:MST
DTSTART:20251102T080000
END:STANDARD
END:VTIMEZONE
BEGIN:VEVENT
DTSTART;TZID=America/Los_Angeles:20250309T160000
DTEND;TZID=America/Los_Angeles:20250504T170000
DTSTAMP:20260419T175009
CREATED:20250227T163013Z
LAST-MODIFIED:20250304T041206Z
UID:427-1741536000-1746378000@scvchinesedance.com
SUMMARY:Kids Spring Workshop - Kids Only
DESCRIPTION:We will learn a traditional bamboo scroll dance set during the Confucian period that reflects Confucius and his teaching system for students. Workshop will run from March 9th to May 4th at To the Pointe Dance Studio on Lyons\, 7 total sessions\, skipping April 6th for Spring Break and April 20th for Easter\, with the option to perform with us during our next show! This is a fun traditional dance that involves reciting a short poem and is meant to portray students holding scrolls. \nAncient Chinese student holding a bamboo scroll\n 
URL:https://scvchinesedance.com/event/kids-spring-workshop/
LOCATION:To The Pointe Dance\, 23120 Lyons Ave\, Newhall\, CA\, 91321\, United States
ORGANIZER;CN="SCV Chinese Dance":MAILTO:scvchinesedance@gmail.com
END:VEVENT
BEGIN:VEVENT
DTSTART;TZID=America/Los_Angeles:20250309T150000
DTEND;TZID=America/Los_Angeles:20250504T160000
DTSTAMP:20260419T175009
CREATED:20250227T154148Z
LAST-MODIFIED:20250304T041229Z
UID:422-1741532400-1746374400@scvchinesedance.com
SUMMARY:Spring Workshop - All Ages Welcome!
DESCRIPTION:We will learn a fan dance to Ye Shanghai as well as a second song to be decided. Workshop will run from March 9th to May 4th at To the Pointe Dance Studio on Lyons\, 7 total sessions\, skipping April 6th for Spring Break and April 20th for Easter\, with the option to perform with us during our next show! This is a low-impact dance appropriate for any level or ability\, and all ages and experience levels are welcome! \nChinese white feather folding fan
URL:https://scvchinesedance.com/event/spring-workshop-all-ages-welcome/
LOCATION:To The Pointe Dance\, 23120 Lyons Ave\, Newhall\, CA\, 91321\, United States
ORGANIZER;CN="SCV Chinese Dance":MAILTO:scvchinesedance@gmail.com
END:VEVENT
BEGIN:VEVENT
DTSTART;TZID=America/Los_Angeles:20250209T130000
DTEND;TZID=America/Los_Angeles:20250209T140000
DTSTAMP:20260419T175009
CREATED:20250207T163514Z
LAST-MODIFIED:20250207T163514Z
UID:370-1739106000-1739109600@scvchinesedance.com
SUMMARY:SCV Chinese Dance Circle – Sunday Feb 9th 1pm
DESCRIPTION:
URL:https://scvchinesedance.com/event/scv-chinese-dance-circle-sunday-feb-9th-1pm/
LOCATION:CA
ORGANIZER;CN="SCV Chinese Dance":MAILTO:scvchinesedance@gmail.com
END:VEVENT
BEGIN:VEVENT
DTSTART;TZID=America/Los_Angeles:20250202T134500
DTEND;TZID=America/Los_Angeles:20250202T144500
DTSTAMP:20260419T175009
CREATED:20250129T181844Z
LAST-MODIFIED:20250130T180902Z
UID:360-1738503900-1738507500@scvchinesedance.com
SUMMARY:SCV Chinese Dance Circle – Sunday Feb 2nd 1:45pm
DESCRIPTION:
URL:https://scvchinesedance.com/event/scv-chinese-dance-circle-sunday-feb-2nd-2pm/
LOCATION:CA
ORGANIZER;CN="SCV Chinese Dance":MAILTO:scvchinesedance@gmail.com
END:VEVENT
BEGIN:VEVENT
DTSTART;TZID=America/Los_Angeles:20250122T100000
DTEND;TZID=America/Los_Angeles:20250122T110000
DTSTAMP:20260419T175009
CREATED:20250108T023106Z
LAST-MODIFIED:20250108T023106Z
UID:350-1737540000-1737543600@scvchinesedance.com
SUMMARY:SCV Chinese Dance Circle – Wednesday Jan 22nd 10am
DESCRIPTION:
URL:https://scvchinesedance.com/event/scv-chinese-dance-circle-wednesday-jan-22nd-10am/
LOCATION:CA
ORGANIZER;CN="SCV Chinese Dance":MAILTO:scvchinesedance@gmail.com
END:VEVENT
BEGIN:VEVENT
DTSTART;TZID=America/Los_Angeles:20250119T130000
DTEND;TZID=America/Los_Angeles:20250119T140000
DTSTAMP:20260419T175009
CREATED:20250108T023000Z
LAST-MODIFIED:20250108T023000Z
UID:347-1737291600-1737295200@scvchinesedance.com
SUMMARY:SCV Chinese Dance Circle – Sunday Jan 19th 1pm
DESCRIPTION:
URL:https://scvchinesedance.com/event/scv-chinese-dance-circle-sunday-jan-19th-1pm/
LOCATION:CA
ORGANIZER;CN="SCV Chinese Dance":MAILTO:scvchinesedance@gmail.com
END:VEVENT
BEGIN:VEVENT
DTSTART;TZID=America/Los_Angeles:20250115T100000
DTEND;TZID=America/Los_Angeles:20250115T110000
DTSTAMP:20260419T175009
CREATED:20250108T022807Z
LAST-MODIFIED:20250115T062548Z
UID:344-1736935200-1736938800@scvchinesedance.com
SUMMARY:CANCELLED – Wednesday Jan 15th 10am
DESCRIPTION:
URL:https://scvchinesedance.com/event/scv-chinese-dance-circle-wednesday-jan-15th-10am/
LOCATION:CA
ORGANIZER;CN="SCV Chinese Dance":MAILTO:scvchinesedance@gmail.com
END:VEVENT
BEGIN:VEVENT
DTSTART;TZID=America/Los_Angeles:20250112T130000
DTEND;TZID=America/Los_Angeles:20250112T140000
DTSTAMP:20260419T175009
CREATED:20250104T212906Z
LAST-MODIFIED:20250104T212906Z
UID:336-1736686800-1736690400@scvchinesedance.com
SUMMARY:SCV Chinese Dance Circle – Sunday Jan 12th 1pm
DESCRIPTION:
URL:https://scvchinesedance.com/event/scv-chinese-dance-circle-sunday-jan-12th-1pm/
LOCATION:CA
ORGANIZER;CN="SCV Chinese Dance":MAILTO:scvchinesedance@gmail.com
END:VEVENT
BEGIN:VEVENT
DTSTART;TZID=America/Los_Angeles:20250107T110000
DTEND;TZID=America/Los_Angeles:20250107T120000
DTSTAMP:20260419T175009
CREATED:20250104T172904Z
LAST-MODIFIED:20250104T172935Z
UID:332-1736247600-1736251200@scvchinesedance.com
SUMMARY:SCV Chinese Dance Circle – Tuesday Jan 7th 11am
DESCRIPTION:
URL:https://scvchinesedance.com/event/scv-chinese-dance-circle-tuesday-jan-7th-11am/
LOCATION:CA
ORGANIZER;CN="SCV Chinese Dance":MAILTO:scvchinesedance@gmail.com
END:VEVENT
BEGIN:VEVENT
DTSTART;TZID=America/Los_Angeles:20241215T130000
DTEND;TZID=America/Los_Angeles:20241215T140000
DTSTAMP:20260419T175009
CREATED:20241205T030822Z
LAST-MODIFIED:20241205T031029Z
UID:315-1734267600-1734271200@scvchinesedance.com
SUMMARY:SCV Chinese Dance Circle – 1pm Dec 15
DESCRIPTION:
URL:https://scvchinesedance.com/event/scv-chinese-dance-circle-1pm-dec-15/
LOCATION:To The Pointe Dance\, 23120 Lyons Ave\, Newhall\, CA\, 91321\, United States
ORGANIZER;CN="SCV Chinese Dance":MAILTO:scvchinesedance@gmail.com
END:VEVENT
BEGIN:VEVENT
DTSTART;TZID=America/Los_Angeles:20241212T110000
DTEND;TZID=America/Los_Angeles:20241212T120000
DTSTAMP:20260419T175009
CREATED:20241205T030959Z
LAST-MODIFIED:20241210T201642Z
UID:318-1734001200-1734004800@scvchinesedance.com
SUMMARY:SCV Chinese Dance Circle – 11am Dec 12
DESCRIPTION:
URL:https://scvchinesedance.com/event/scv-chinese-dance-circle-11am-dec-12/
LOCATION:To The Pointe Dance\, 23120 Lyons Ave\, Newhall\, CA\, 91321\, United States
ORGANIZER;CN="SCV Chinese Dance":MAILTO:scvchinesedance@gmail.com
END:VEVENT
BEGIN:VEVENT
DTSTART;TZID=UTC:20241124T130000
DTEND;TZID=UTC:20241124T140000
DTSTAMP:20260419T175009
CREATED:20241107T152518Z
LAST-MODIFIED:20241117T192259Z
UID:271-1732453200-1732456800@scvchinesedance.com
SUMMARY:SCV Chinese Dance Circle - 1pm Nov 24
DESCRIPTION:All people are welcome to attend! For simplicity sake please prepare $5 cash for the event to help cover studio fees \nSneak Preview of our classes are on our Facebook page: Here
URL:https://scvchinesedance.com/event/scv-chinese-dance-circle-1pm-nov-24/
LOCATION:To The Pointe Dance\, 23120 Lyons Ave\, Newhall\, CA\, 91321\, United States
ORGANIZER;CN="SCV Chinese Dance":MAILTO:scvchinesedance@gmail.com
END:VEVENT
BEGIN:VEVENT
DTSTART;TZID=America/Los_Angeles:20241117T130000
DTEND;TZID=America/Los_Angeles:20241117T140000
DTSTAMP:20260419T175009
CREATED:20241107T152324Z
LAST-MODIFIED:20241117T194710Z
UID:266-1731848400-1731852000@scvchinesedance.com
SUMMARY:SCV Chinese Dance Circle - 1pm Nov 17
DESCRIPTION:All people are welcome to attend! For simplicity sake please prepare $5 cash for the event to help cover studio fees \nSneak Preview of our classes are on our Facebook page: Here
URL:https://scvchinesedance.com/event/scv-chinese-dance-circle-1pm-nov-17/
LOCATION:CA
END:VEVENT
BEGIN:VEVENT
DTSTART;TZID=UTC:20241110T130000
DTEND;TZID=UTC:20241110T140000
DTSTAMP:20260419T175009
CREATED:20241107T152218Z
LAST-MODIFIED:20241107T152355Z
UID:263-1731243600-1731247200@scvchinesedance.com
SUMMARY:SCV Chinese Dance Circle - 1pm Nov 10
DESCRIPTION:All people are welcome to attend! For simplicity sake please prepare $5 cash for the event to help cover studio fees \nSneak Preview of our classes are on our Facebook page: Here
URL:https://scvchinesedance.com/event/scv-chinese-dance-circle-1pm-nov-10/
LOCATION:To The Pointe Dance\, 23120 Lyons Ave\, Newhall\, CA\, 91321\, United States
ORGANIZER;CN="SCV Chinese Dance":MAILTO:scvchinesedance@gmail.com
END:VEVENT
BEGIN:VEVENT
DTSTART;TZID=UTC:20241103T130000
DTEND;TZID=UTC:20241103T140000
DTSTAMP:20260419T175009
CREATED:20241028T171957Z
LAST-MODIFIED:20241028T173421Z
UID:247-1730638800-1730642400@scvchinesedance.com
SUMMARY:SCV Chinese Dance Circle - 1pm Nov 3\, 2024
DESCRIPTION:All people are welcome to attend! For simplicity sake please prepare $5 cash for the event to help cover studio fees \nSneak Preview of our first class is on our Facebook page: Here
URL:https://scvchinesedance.com/event/scv-chinese-dance-circle-1pm-nov-3-2024/
LOCATION:To The Pointe Dance\, 23120 Lyons Ave\, Newhall\, CA\, 91321\, United States
ORGANIZER;CN="SCV Chinese Dance":MAILTO:scvchinesedance@gmail.com
END:VEVENT
BEGIN:VEVENT
DTSTART;TZID=America/Denver:20241027T130000
DTEND;TZID=America/Denver:20241027T140000
DTSTAMP:20260419T175009
CREATED:20241022T013302Z
LAST-MODIFIED:20241022T175805Z
UID:175-1730034000-1730037600@scvchinesedance.com
SUMMARY:First Open Class - SCV Chinese Dance Circle - Click To Join
DESCRIPTION:This is our first open event! All people are welcome to attend! For simplicity sake please prepare $5 cash for the event to help cover studio fees
URL:https://scvchinesedance.com/event/first-open-class-scv-chinese-dance-circle/
LOCATION:To The Pointe Dance\, 23120 Lyons Ave\, Newhall\, CA\, 91321\, United States
ORGANIZER;CN="SCV Chinese Dance":MAILTO:scvchinesedance@gmail.com
END:VEVENT
END:VCALENDAR